BEGIN:VCALENDAR
VERSION:2.0
PRODID:-//Matus Winery - ECPv6.15.17//NONSGML v1.0//EN
CALSCALE:GREGORIAN
METHOD:PUBLISH
X-WR-CALNAME:Matus Winery
X-ORIGINAL-URL:https://matuswinery.com
X-WR-CALDESC:Events for Matus Winery
REFRESH-INTERVAL;VALUE=DURATION:PT1H
X-Robots-Tag:noindex
X-PUBLISHED-TTL:PT1H
BEGIN:VTIMEZONE
TZID:America/Detroit
BEGIN:DAYLIGHT
TZOFFSETFROM:-0500
TZOFFSETTO:-0400
TZNAME:EDT
DTSTART:20240310T070000
END:DAYLIGHT
BEGIN:STANDARD
TZOFFSETFROM:-0400
TZOFFSETTO:-0500
TZNAME:EST
DTSTART:20241103T060000
END:STANDARD
BEGIN:DAYLIGHT
TZOFFSETFROM:-0500
TZOFFSETTO:-0400
TZNAME:EDT
DTSTART:20250309T070000
END:DAYLIGHT
BEGIN:STANDARD
TZOFFSETFROM:-0400
TZOFFSETTO:-0500
TZNAME:EST
DTSTART:20251102T060000
END:STANDARD
BEGIN:DAYLIGHT
TZOFFSETFROM:-0500
TZOFFSETTO:-0400
TZNAME:EDT
DTSTART:20260308T070000
END:DAYLIGHT
BEGIN:STANDARD
TZOFFSETFROM:-0400
TZOFFSETTO:-0500
TZNAME:EST
DTSTART:20261101T060000
END:STANDARD
END:VTIMEZONE
BEGIN:VEVENT
DTSTART;TZID=America/Detroit:20251101T183000
DTEND;TZID=America/Detroit:20251101T213000
DTSTAMP:20260420T073954
CREATED:20250919T142858Z
LAST-MODIFIED:20250919T142858Z
UID:10002473-1762021800-1762032600@matuswinery.com
SUMMARY:Live Music: Walter Sanders
DESCRIPTION:MR. WALT SANDERS IN THE HOUSE — GET HERE EARLY TO GET A SEAT — NO RESERVE SEATING
URL:https://matuswinery.com/event/live-music-walter-sanders
LOCATION:Matus Winery\, 15674 Gore Orphanage Rd\, Wakeman\, OH\, 44889\, United States
CATEGORIES:Entertainment
ATTACH;FMTTYPE=image/jpeg:https://matuswinery.com/wp-content/uploads/2025/09/WaltSanders.jpeg
END:VEVENT
BEGIN:VEVENT
DTSTART;TZID=America/Detroit:20251105T180000
DTEND;TZID=America/Detroit:20251105T210000
DTSTAMP:20260420T073954
CREATED:20191019T002636Z
LAST-MODIFIED:20260228T053509Z
UID:10002484-1762365600-1762376400@matuswinery.com
SUMMARY:Dead Yeast Society Club Meeting
DESCRIPTION:The Dead Yeast Society\, founded in 2009\, is a club for home winemakers. The club was started with the intent to spread the knowledge and love of home wine making\, wine etiquette\, and the history of wine. The Dead Yeast Society meets on the first Wednesday of every month at Matus Winery at 6pm. \nCome learn all about wine & the wine making process all while enjoying awesome Matus Wines and amazing potluck themed food. All levels are welcome.
URL:https://matuswinery.com/event/dead-yeast-society-club-meeting-2020-12-02/2025-11-05
LOCATION:OH
CATEGORIES:Matus Event
ATTACH;FMTTYPE=image/jpeg:https://matuswinery.com/wp-content/uploads/2019/10/AdobeStock_288983301.jpeg
END:VEVENT
BEGIN:VEVENT
DTSTART;TZID=America/Detroit:20251122T183000
DTEND;TZID=America/Detroit:20251122T213000
DTSTAMP:20260420T073954
CREATED:20211213T161756Z
LAST-MODIFIED:20250925T214009Z
UID:10002487-1763836200-1763847000@matuswinery.com
SUMMARY:Live Music: Strukely and Cole
DESCRIPTION:Music of the Decades\, from 1950’s through 2000’s. Come enjoy at Matus!
URL:https://matuswinery.com/event/live-music-strukely-and-cole/2025-11-22
LOCATION:Matus Winery\, 15674 Gore Orphanage Rd\, Wakeman\, OH\, 44889\, United States
CATEGORIES:Entertainment
ATTACH;FMTTYPE=image/jpeg:https://matuswinery.com/wp-content/uploads/2021/12/12983938_1138402502858322_2558174045230008123_o.jpg
END:VEVENT
BEGIN:VEVENT
DTSTART;TZID=America/Detroit:20251129T183000
DTEND;TZID=America/Detroit:20251129T213000
DTSTAMP:20260420T073954
CREATED:20191219T160716Z
LAST-MODIFIED:20250925T212403Z
UID:10002475-1764441000-1764451800@matuswinery.com
SUMMARY:Live Music: 2 Man Group
DESCRIPTION:#2MG is one of a kind – an acoustic duo with a full band sound! Mike on acoustic guitar/vocals and Bernie on drums\, keyboard bass(at the same time!) and vocals – we play a variety of covers including Classic Rock\, Country\, Oldies & Modern Hits!
URL:https://matuswinery.com/event/2-man-group-2020-05-16/2025-11-29
LOCATION:OH
CATEGORIES:Entertainment
ATTACH;FMTTYPE=image/jpeg:https://matuswinery.com/wp-content/uploads/2019/12/80116892_3010525348959763_6934567223033856000_o.jpg
END:VEVENT
END:VCALENDAR