BEGIN:VCALENDAR
VERSION:2.0
PRODID:-//Matus Winery - ECPv6.15.17//NONSGML v1.0//EN
CALSCALE:GREGORIAN
METHOD:PUBLISH
X-WR-CALNAME:Matus Winery
X-ORIGINAL-URL:https://matuswinery.com
X-WR-CALDESC:Events for Matus Winery
REFRESH-INTERVAL;VALUE=DURATION:PT1H
X-Robots-Tag:noindex
X-PUBLISHED-TTL:PT1H
BEGIN:VTIMEZONE
TZID:America/Detroit
BEGIN:DAYLIGHT
TZOFFSETFROM:-0500
TZOFFSETTO:-0400
TZNAME:EDT
DTSTART:20240310T070000
END:DAYLIGHT
BEGIN:STANDARD
TZOFFSETFROM:-0400
TZOFFSETTO:-0500
TZNAME:EST
DTSTART:20241103T060000
END:STANDARD
BEGIN:DAYLIGHT
TZOFFSETFROM:-0500
TZOFFSETTO:-0400
TZNAME:EDT
DTSTART:20250309T070000
END:DAYLIGHT
BEGIN:STANDARD
TZOFFSETFROM:-0400
TZOFFSETTO:-0500
TZNAME:EST
DTSTART:20251102T060000
END:STANDARD
BEGIN:DAYLIGHT
TZOFFSETFROM:-0500
TZOFFSETTO:-0400
TZNAME:EDT
DTSTART:20260308T070000
END:DAYLIGHT
BEGIN:STANDARD
TZOFFSETFROM:-0400
TZOFFSETTO:-0500
TZNAME:EST
DTSTART:20261101T060000
END:STANDARD
END:VTIMEZONE
BEGIN:VEVENT
DTSTART;TZID=America/Detroit:20251001T180000
DTEND;TZID=America/Detroit:20251001T210000
DTSTAMP:20260421T053724
CREATED:20191019T002636Z
LAST-MODIFIED:20260228T053509Z
UID:10002483-1759341600-1759352400@matuswinery.com
SUMMARY:Dead Yeast Society Club Meeting
DESCRIPTION:The Dead Yeast Society\, founded in 2009\, is a club for home winemakers. The club was started with the intent to spread the knowledge and love of home wine making\, wine etiquette\, and the history of wine. The Dead Yeast Society meets on the first Wednesday of every month at Matus Winery at 6pm. \nCome learn all about wine & the wine making process all while enjoying awesome Matus Wines and amazing potluck themed food. All levels are welcome.
URL:https://matuswinery.com/event/dead-yeast-society-club-meeting-2020-12-02/2025-10-01
LOCATION:OH
CATEGORIES:Matus Event
ATTACH;FMTTYPE=image/jpeg:https://matuswinery.com/wp-content/uploads/2019/10/AdobeStock_288983301.jpeg
END:VEVENT
BEGIN:VEVENT
DTSTART;TZID=America/Detroit:20251004T183000
DTEND;TZID=America/Detroit:20251004T213000
DTSTAMP:20260421T053724
CREATED:20250925T213909Z
LAST-MODIFIED:20250925T213909Z
UID:10002486-1759602600-1759613400@matuswinery.com
SUMMARY:Live Music: Elvis Tribute Artist Frank W
DESCRIPTION:Elvis tribute Artist Frank W returns to Matus Winery with a 3 hour show of all eras of Elvis music performed by Frank Worley. \nShow will be outdoors. Open to the public. No cover charge. Under 21 permitted till 9pm. Welcome to bring your own lawn chairs for outdoor performance. Small snacks available as well as welcome to bring your own take out food. *Food vender on site\, to be determined.*
URL:https://matuswinery.com/event/live-music-elvis-tribute-artist-frank-w
LOCATION:Matus Winery\, 15674 Gore Orphanage Rd\, Wakeman\, OH\, 44889\, United States
CATEGORIES:Entertainment,Food/Food Truck
ATTACH;FMTTYPE=image/jpeg:https://matuswinery.com/wp-content/uploads/2025/09/475024717_642763121419995_5759904932860940405_n.jpg
END:VEVENT
BEGIN:VEVENT
DTSTART;TZID=America/Detroit:20251006T180000
DTEND;TZID=America/Detroit:20251006T210000
DTSTAMP:20260421T053724
CREATED:20250520T232304Z
LAST-MODIFIED:20260227T204610Z
UID:10002480-1759773600-1759784400@matuswinery.com
SUMMARY:Cigar Club Night
DESCRIPTION:$25 gets you your choice of a bottle of Matus Wine -OR- 3 Tastings of Premium Bourbon AND 1 premium Cigar. Light snacks will be provided and you’re welcome to bring a snack to share. One deal per person.
URL:https://matuswinery.com/event/cigar-night-5-2-2-2/2025-10-06
LOCATION:Matus Winery\, 15674 Gore Orphanage Rd\, Wakeman\, OH\, 44889\, United States
CATEGORIES:Matus Event
ATTACH;FMTTYPE=image/jpeg:https://matuswinery.com/wp-content/uploads/2019/10/AdobeStock_15077835.jpeg
END:VEVENT
BEGIN:VEVENT
DTSTART;TZID=America/Detroit:20251011T190000
DTEND;TZID=America/Detroit:20251011T220000
DTSTAMP:20260421T053724
CREATED:20250919T141454Z
LAST-MODIFIED:20250919T141454Z
UID:10002465-1760209200-1760220000@matuswinery.com
SUMMARY:Live Music: Rock Hard Cleveland
DESCRIPTION:THE BOYS ARE BACK TO JAM 7-10 — GET YOUR DANCING SHOES READY FOLKS \nRock Hard Cleveland is a cover band with a broad set list. Northeastern Ohio boys that will entertain you with ROCK and POP.
URL:https://matuswinery.com/event/live-music-rock-hard-cleveland
LOCATION:Matus Winery\, 15674 Gore Orphanage Rd\, Wakeman\, OH\, 44889\, United States
CATEGORIES:Entertainment
ATTACH;FMTTYPE=image/jpeg:https://matuswinery.com/wp-content/uploads/2025/09/RockHardCleveland.jpg
END:VEVENT
BEGIN:VEVENT
DTSTART;TZID=America/Detroit:20251018T183000
DTEND;TZID=America/Detroit:20251018T213000
DTSTAMP:20260421T053724
CREATED:20191219T160716Z
LAST-MODIFIED:20250925T212403Z
UID:10002474-1760812200-1760823000@matuswinery.com
SUMMARY:Live Music: 2 Man Group
DESCRIPTION:#2MG is one of a kind – an acoustic duo with a full band sound! Mike on acoustic guitar/vocals and Bernie on drums\, keyboard bass(at the same time!) and vocals – we play a variety of covers including Classic Rock\, Country\, Oldies & Modern Hits!
URL:https://matuswinery.com/event/2-man-group-2020-05-16/2025-10-18
LOCATION:OH
CATEGORIES:Entertainment
ATTACH;FMTTYPE=image/jpeg:https://matuswinery.com/wp-content/uploads/2019/12/80116892_3010525348959763_6934567223033856000_o.jpg
END:VEVENT
BEGIN:VEVENT
DTSTART;TZID=America/Detroit:20251025T180000
DTEND;TZID=America/Detroit:20251025T210000
DTSTAMP:20260421T053724
CREATED:20250902T121839Z
LAST-MODIFIED:20250902T121839Z
UID:10002451-1761415200-1761426000@matuswinery.com
SUMMARY:Martin's Food Truck
DESCRIPTION:We are a mobile food operation. serving up the best crazy creations anywhere around! With a unique menu and options that are exclusive to our mobile unit. Let’s eat. \nAlways full\, never hungry with Martin’s smashed full boxes 😋.
URL:https://matuswinery.com/event/martins-food-truck
LOCATION:Matus Winery\, 15674 Gore Orphanage Rd\, Wakeman\, OH\, 44889\, United States
CATEGORIES:Food/Food Truck
ATTACH;FMTTYPE=image/jpeg:https://matuswinery.com/wp-content/uploads/2025/09/MartinsFoodTruck.jpg
END:VEVENT
BEGIN:VEVENT
DTSTART;TZID=America/Detroit:20251025T190000
DTEND;TZID=America/Detroit:20251025T220000
DTSTAMP:20260421T053724
CREATED:20220930T213702Z
LAST-MODIFIED:20250902T120746Z
UID:10002449-1761418800-1761429600@matuswinery.com
SUMMARY:Matus Halloween Bash! Costume Party
DESCRIPTION:That’s right folks the party is back rocking with The Adjustments Band\, 7-10 pm. Costumes are required and prizes for top 5!\n\nTunes by The Adjustments and of course the Burning Pumpkin Log & great wine — and food by Last Chance BBQ !! BAM
URL:https://matuswinery.com/event/matus-halloween-bash-2/2025-10-25
LOCATION:Matus Winery\, 15674 Gore Orphanage Rd\, Wakeman\, OH\, 44889\, United States
CATEGORIES:Entertainment,Matus Event,Party
ATTACH;FMTTYPE=image/jpeg:https://matuswinery.com/wp-content/uploads/2022/09/535812076_1104543618457396_7931781714545696894_n.jpg
END:VEVENT
END:VCALENDAR