BEGIN:VCALENDAR
VERSION:2.0
PRODID:-//Matus Winery - ECPv6.15.17//NONSGML v1.0//EN
CALSCALE:GREGORIAN
METHOD:PUBLISH
X-ORIGINAL-URL:https://matuswinery.com
X-WR-CALDESC:Events for Matus Winery
REFRESH-INTERVAL;VALUE=DURATION:PT1H
X-Robots-Tag:noindex
X-PUBLISHED-TTL:PT1H
BEGIN:VTIMEZONE
TZID:America/Detroit
BEGIN:DAYLIGHT
TZOFFSETFROM:-0500
TZOFFSETTO:-0400
TZNAME:EDT
DTSTART:20250309T070000
END:DAYLIGHT
BEGIN:STANDARD
TZOFFSETFROM:-0400
TZOFFSETTO:-0500
TZNAME:EST
DTSTART:20251102T060000
END:STANDARD
BEGIN:DAYLIGHT
TZOFFSETFROM:-0500
TZOFFSETTO:-0400
TZNAME:EDT
DTSTART:20260308T070000
END:DAYLIGHT
BEGIN:STANDARD
TZOFFSETFROM:-0400
TZOFFSETTO:-0500
TZNAME:EST
DTSTART:20261101T060000
END:STANDARD
BEGIN:DAYLIGHT
TZOFFSETFROM:-0500
TZOFFSETTO:-0400
TZNAME:EDT
DTSTART:20270314T070000
END:DAYLIGHT
BEGIN:STANDARD
TZOFFSETFROM:-0400
TZOFFSETTO:-0500
TZNAME:EST
DTSTART:20271107T060000
END:STANDARD
END:VTIMEZONE
BEGIN:VEVENT
DTSTART;TZID=America/Detroit:20260327T170000
DTEND;TZID=America/Detroit:20260327T183000
DTSTAMP:20260420T060357
CREATED:20260228T054158Z
LAST-MODIFIED:20260228T054226Z
UID:10002512-1774630800-1774636200@matuswinery.com
SUMMARY:THINK FUZZY BUNNY WORKSHOP
DESCRIPTION:Think fuzzy bunny workshop energy only 👏🫶🏼 \nPick between our Pom or Fuzzy Bunny!\nBring your gal pals and make the cutest Easter decor to get in the mood for SPRING! \nPre sale only\, no walk ins \nTicket includes one glass of wine/wine slush ❤️👏🫶🏼 \n 
URL:https://matuswinery.com/event/think-fuzzy-bunny-workshop
LOCATION:Matus Winery\, 15674 Gore Orphanage Rd\, Wakeman\, OH\, 44889\, United States
CATEGORIES:Matus Event
ATTACH;FMTTYPE=image/jpeg:https://matuswinery.com/wp-content/uploads/2026/02/FuzzyBunny-e1772257120542.jpg
END:VEVENT
END:VCALENDAR