BEGIN:VCALENDAR
VERSION:2.0
PRODID:-//Matus Winery - ECPv6.15.17//NONSGML v1.0//EN
CALSCALE:GREGORIAN
METHOD:PUBLISH
X-ORIGINAL-URL:https://matuswinery.com
X-WR-CALDESC:Events for Matus Winery
REFRESH-INTERVAL;VALUE=DURATION:PT1H
X-Robots-Tag:noindex
X-PUBLISHED-TTL:PT1H
BEGIN:VTIMEZONE
TZID:America/Detroit
BEGIN:DAYLIGHT
TZOFFSETFROM:-0500
TZOFFSETTO:-0400
TZNAME:EDT
DTSTART:20240310T070000
END:DAYLIGHT
BEGIN:STANDARD
TZOFFSETFROM:-0400
TZOFFSETTO:-0500
TZNAME:EST
DTSTART:20241103T060000
END:STANDARD
BEGIN:DAYLIGHT
TZOFFSETFROM:-0500
TZOFFSETTO:-0400
TZNAME:EDT
DTSTART:20250309T070000
END:DAYLIGHT
BEGIN:STANDARD
TZOFFSETFROM:-0400
TZOFFSETTO:-0500
TZNAME:EST
DTSTART:20251102T060000
END:STANDARD
BEGIN:DAYLIGHT
TZOFFSETFROM:-0500
TZOFFSETTO:-0400
TZNAME:EDT
DTSTART:20260308T070000
END:DAYLIGHT
BEGIN:STANDARD
TZOFFSETFROM:-0400
TZOFFSETTO:-0500
TZNAME:EST
DTSTART:20261101T060000
END:STANDARD
END:VTIMEZONE
BEGIN:VEVENT
DTSTART;TZID=America/Detroit:20251206T183000
DTEND;TZID=America/Detroit:20251206T213000
DTSTAMP:20260425T082536
CREATED:20241015T013652Z
LAST-MODIFIED:20250925T214104Z
UID:10002488-1765045800-1765056600@matuswinery.com
SUMMARY:Live Music: Nomadic Soul Acoustic Trio
DESCRIPTION:Nomad Soul Acoustic Trio at The Matus Winery in Wakeman!\nWe’re so excited to finally be playing for all of you! We play a huge variety of music from the early 60’s-2000’s plus requests and Fleetwood Mac of course!\nCan’t wait to meet everyone!
URL:https://matuswinery.com/event/live-music-nomadic-soul-acoustic-trio/2025-12-06
LOCATION:Matus Winery\, 15674 Gore Orphanage Rd\, Wakeman\, OH\, 44889\, United States
CATEGORIES:Entertainment
ATTACH;FMTTYPE=image/jpeg:https://matuswinery.com/wp-content/uploads/2024/10/NomadicSoul.jpg
END:VEVENT
BEGIN:VEVENT
DTSTART;TZID=America/Detroit:20251213T183000
DTEND;TZID=America/Detroit:20251213T213000
DTSTAMP:20260425T082536
CREATED:20250925T214555Z
LAST-MODIFIED:20250925T214555Z
UID:10002490-1765650600-1765661400@matuswinery.com
SUMMARY:Ugly Sweater Christmas Party! With the Wannabes
DESCRIPTION:Wannabes are back with all your favorite music. #1 Party Band in the area! The best rock and country from the 70’s\, 80’s\, 90’s\, and now! \nMake sure you wear that Ugly Christmas sweater!
URL:https://matuswinery.com/event/ugly-sweater-christmas-party-with-the-wannabes
LOCATION:Matus Winery\, 15674 Gore Orphanage Rd\, Wakeman\, OH\, 44889\, United States
CATEGORIES:Entertainment,Matus Event,Party
ATTACH;FMTTYPE=image/jpeg:https://matuswinery.com/wp-content/uploads/2019/11/AdobeStock_293982692-1.jpeg
END:VEVENT
BEGIN:VEVENT
DTSTART;TZID=America/Detroit:20251220T183000
DTEND;TZID=America/Detroit:20251220T213000
DTSTAMP:20260425T082536
CREATED:20191029T214308Z
LAST-MODIFIED:20250925T214209Z
UID:10002489-1766255400-1766266200@matuswinery.com
SUMMARY:Live Music: Acoustic Scotty
DESCRIPTION:Blues\, classic rock\, seventies folk\, & originals
URL:https://matuswinery.com/event/live-music-acoustic-scotty/2025-12-20
CATEGORIES:Entertainment
ATTACH;FMTTYPE=image/jpeg:https://matuswinery.com/wp-content/uploads/2019/10/scotty.jpg
END:VEVENT
END:VCALENDAR